BEGIN:VCALENDAR
VERSION:2.0
PRODID:-//Gastvrijheid in Bedrijf - ECPv6.15.20//NONSGML v1.0//EN
CALSCALE:GREGORIAN
METHOD:PUBLISH
X-WR-CALNAME:Gastvrijheid in Bedrijf
X-ORIGINAL-URL:https://www.gastvrijheidinbedrijf.nl
X-WR-CALDESC:Evenementen voor Gastvrijheid in Bedrijf
REFRESH-INTERVAL;VALUE=DURATION:PT1H
X-Robots-Tag:noindex
X-PUBLISHED-TTL:PT1H
BEGIN:VTIMEZONE
TZID:Europe/Amsterdam
BEGIN:DAYLIGHT
TZOFFSETFROM:+0100
TZOFFSETTO:+0200
TZNAME:CEST
DTSTART:20210328T010000
END:DAYLIGHT
BEGIN:STANDARD
TZOFFSETFROM:+0200
TZOFFSETTO:+0100
TZNAME:CET
DTSTART:20211031T010000
END:STANDARD
BEGIN:DAYLIGHT
TZOFFSETFROM:+0100
TZOFFSETTO:+0200
TZNAME:CEST
DTSTART:20220327T010000
END:DAYLIGHT
BEGIN:STANDARD
TZOFFSETFROM:+0200
TZOFFSETTO:+0100
TZNAME:CET
DTSTART:20221030T010000
END:STANDARD
BEGIN:DAYLIGHT
TZOFFSETFROM:+0100
TZOFFSETTO:+0200
TZNAME:CEST
DTSTART:20230326T010000
END:DAYLIGHT
BEGIN:STANDARD
TZOFFSETFROM:+0200
TZOFFSETTO:+0100
TZNAME:CET
DTSTART:20231029T010000
END:STANDARD
END:VTIMEZONE
BEGIN:VEVENT
DTSTART;TZID=Europe/Amsterdam:20221206T090000
DTEND;TZID=Europe/Amsterdam:20221206T100000
DTSTAMP:20260423T001412
CREATED:20221007T133633Z
LAST-MODIFIED:20221007T133633Z
UID:14966-1670317200-1670320800@www.gastvrijheidinbedrijf.nl
SUMMARY:Denktank in de Community
DESCRIPTION:Wij zoeken graag de verbinding op met onze Community leden\, vandaar dat we maandelijks een Denktank organiseren. \nIn dit uur draait het om waar jij als community lid het graag over wilt hebben. \n\nIs er misschien iets op het gebied van Gastvrijheid waar je tegenaan loopt?\nBen je bezig met Gastvrijheidsontwikkeling binnen jouw team\, maar loop je vast en kan je wel een sparringpartner gebruiken?\nBen je benieuwd hoe andere community leden over een bepaald thema denken?\nBen je nieuw in de Community en weet je eigenlijk niet zo heel goed hoe je deze optimaal kan gebruiken?\nLoop je al een tijdje rond met een vraag gerelateerd aan Gastvrijheid\, maar weet je niet aan wie je ‘m moet stellen?\n\nWij gaan je helpen! We beantwoorden graag je vraag\, maar ook als je op zoek bent naar een klankbord zijn wij (en alle andere leden die aanwezig zijn bij de sessie) er voor je. \nHeb je nou geen specifieke vraag of vind je het nog wel spannend om je kwetsbaar op te stellen tijdens deze Denktank? “Loop” dan alsnog digitaal binnen en ontmoet je mede community leden. Wellicht kan jij een ander wel helpen…? \nWe zien je graag live in de sessie. Aanmelden voor deze Denktank kan via de Gastvrijheid in Bedrijf Community. \nMocht je nog vragen hebben over deze sessie\, stuur dan een email.
URL:https://www.gastvrijheidinbedrijf.nl/evenement/denktank-in-de-community-10/
LOCATION:Zoom
ATTACH;FMTTYPE=:
END:VEVENT
END:VCALENDAR