BEGIN:VCALENDAR
VERSION:2.0
PRODID:-//Gastvrijheid in Bedrijf - ECPv6.15.20//NONSGML v1.0//EN
CALSCALE:GREGORIAN
METHOD:PUBLISH
X-ORIGINAL-URL:https://www.gastvrijheidinbedrijf.nl
X-WR-CALDESC:Evenementen voor Gastvrijheid in Bedrijf
REFRESH-INTERVAL;VALUE=DURATION:PT1H
X-Robots-Tag:noindex
X-PUBLISHED-TTL:PT1H
BEGIN:VTIMEZONE
TZID:Europe/Amsterdam
BEGIN:DAYLIGHT
TZOFFSETFROM:+0100
TZOFFSETTO:+0200
TZNAME:CEST
DTSTART:20250330T010000
END:DAYLIGHT
BEGIN:STANDARD
TZOFFSETFROM:+0200
TZOFFSETTO:+0100
TZNAME:CET
DTSTART:20251026T010000
END:STANDARD
BEGIN:DAYLIGHT
TZOFFSETFROM:+0100
TZOFFSETTO:+0200
TZNAME:CEST
DTSTART:20260329T010000
END:DAYLIGHT
BEGIN:STANDARD
TZOFFSETFROM:+0200
TZOFFSETTO:+0100
TZNAME:CET
DTSTART:20261025T010000
END:STANDARD
BEGIN:DAYLIGHT
TZOFFSETFROM:+0100
TZOFFSETTO:+0200
TZNAME:CEST
DTSTART:20270328T010000
END:DAYLIGHT
BEGIN:STANDARD
TZOFFSETFROM:+0200
TZOFFSETTO:+0100
TZNAME:CET
DTSTART:20271031T010000
END:STANDARD
END:VTIMEZONE
BEGIN:VEVENT
DTSTART;TZID=Europe/Amsterdam:20261118T090000
DTEND;TZID=Europe/Amsterdam:20261118T163000
DTSTAMP:20260422T035102
CREATED:20250812T105847Z
LAST-MODIFIED:20250910T081130Z
UID:23511-1794992400-1795019400@www.gastvrijheidinbedrijf.nl
SUMMARY:Hospitality Coach
DESCRIPTION:Wil jij een expert worden in het ontwikkelen en borgen van interne en externe gastvrijheid binnen jouw afdeling of bedrijf? Ben jij bereid om het beste uit jezelf en anderen te halen en te leren de cultuur in jouw team duurzaam te ontwikkelen en te borgen? \nDan is de opleiding tot Hospitality Coach echt iets voor jou. In deze masterclass leer je hoe je zelfstandig gastvrijheid kunt verspreiden en hoe je het veranderproces vorm kan geven. Je ontdekt hoe je anderen in beweging kunt krijgen en houden. Ook leer je de gast centraal te zetten in het denken en handelen van jezelf en anderen. We geven praktische tools en inspiratie in hoe jij collega’s kunt inspireren\, motiveren\, coachen en aanspreken. \nWat je gaat leren:\nAls Hospitality Coach: \n\nword je expert in gastvrijheid;\ngeef je bewust het goede voorbeeld en reflecteer je op jouw eigen rol;\nontdek je hoe jij anderen kunt inspireren en motiveren;\nleer je omgaan met weerstand;\nleer je de basisvaardigheden van coachen;\nga je aan de slag met een gastvrijheidsplan voor jouw team of bedrijf.\n\nVoor wie is de training geschikt? \n\ninformele leiders\,\nambassadeurs van gastvrijheid\,\noperationeel/tactisch leidinggevenden\,\ninterne/externe trainers/coaches\, en\nbeleidsmedewerkers\n\nmet een passie voor het thema gastvrijheid. \nDe opleiding is ideaal voor medewerkers die de uitdaging aangaan als ambassadeur van gastvrijheid om collega’s te inspireren op het gebied van gastvrijheid en actief willen meewerken aan het verbeteren van gastvrijheid. \nProgramma:\n9.00 – 9.30 uur               Ontvangst\n9.30 – 10.00 uur             Start programma en kennismaken\n10.00 – 12.00 uur           De theorie\n12.00 – 13.00 uur           Lunch\n13.00 – 16.00 uur           Aan de slag met de tools\n16.00 uur                         Afronding\nNa afloop ontvang je de tools digitaal en een certificaat. \nWat anderen zeggen over de masterclass:\n“De masterclass is een aanrader en vooral omdat je direct aan de slag gaat om het in praktijk te brengen!”\n“Een inspirerende\, leerzame maar vooral een andere blik op gastvrijheid. Het is niet alleen een glimlach\, het is veel meer” Marco Mouwen. \nDe trainer\nDe training wordt begeleid door gastvrijheidsexpert en eigenaar van Gastvrijheid in Bedrijf: Laura de la Mar. Ze heeft jarenlange ervaring als gastvrijheidstrainer en deelt graag haar kennis over het coachen van anderen op het gebied van gastvrijheid. Je kent haar van de boeken “Het geheim van gastvrijheid” en “Mood Maker; het ontwikkelen van gastvrije organisaties”. Benieuwd naar Laura’s profiel? Klik dan hier. \nDe investering \n\nDeelname aan de training kost €499\,- excl. BTW en inclusief lunch. Daarnaast krijg je gedurende de dag diverse tools aangereikt.\nBen je lid van de Gastvrijheid in Bedrijf Community? Dan krijg je €50\,- korting en betaal je slechts €449\,- excl. BTW.\n\nBen je er bij?Meld je aan via onderstaand formulier. \nFacturatiegegevens *Ben je lid van de Gastvrijheid in Bedrijf Community? *Nee\, ik betaal de volledige prijs.Nee\, maar ik wil wel graag Community lid worden (€6\,-- per maand excl. BTW) en ontvang 50 euro korting op het bedrag voor de masterclassJa\, ik ben lid.Toestemming algemene voorwaarden *Ik ga akkoord met de algemene voorwaarden.Inspiratie e-mails ontvangenJa\, ik ontvang graag zo af en toe een -email met inspiratie\, tips en tools van Gastvrijheid in Bedrijf.KortingscodeVersturenBedankt voor de aanmelding voor de Evenementen.×Er ging iets mis bij het verzenden van de aanmelding\, probeer het nogmaals.×Praktische informatieDatum: 18 november 2026\nLocatie: Biota Huis\nKrachtighuizerweg 30-3\, 3881 PD Putten \nDuur: Eén dag (9.00-16.30 uur)\nGroepsgrootte: 4 tot 12 deelnemers \nStudiebelasting: Voorafgaand aan de masterclass voer je een voorbereidende opdracht uit van circa 30 minuten. De studiebelasting is daarmee totaal circa 8 uur. \nGroepsgrootte: 4 tot 12 deelnemers \n(Aanvangs)niveau: deze masterclass is toegankelijk voor alle niveaus. Er is geen vooropleiding nodig. Wel is het prettig als je basiskennis hebt over gastvrijheid. Dat kan je bijvoorbeeld doen door het boek “Het geheim van gastvrijheid” te lezen (niet verplicht). \nStudiemateriaal: tijdens de masterclass krijg je materiaal zoals pen\, een notitieblok en hand-outs. Aan het einde van de dag ontvang je een certificaat (bewijs van deelname). Daarnaast krijg je toegang tot een online omgeving waarbij je toegang krijg tot de presentatie\, hand-outs en naslagmateriaal. De prijs voor de masterclass is inclusief al het studiemateriaal. \nAanmeldenAanmelden
URL:https://www.gastvrijheidinbedrijf.nl/evenement/hospitality-coach/
LOCATION:Biota Huis\, Krachtighuizerweg 30-3\, Putten\, 3881 PD
CATEGORIES:Masterclass
ATTACH;FMTTYPE=image/png:https://www.gastvrijheidinbedrijf.nl/wp-content/uploads/2025/08/Masterclass-Hospitality-Coach-1.png
ORGANIZER;CN="Gastvrijheid in Bedrijf":MAILTO:info@gastvrijheidinbedrijf.nl
END:VEVENT
END:VCALENDAR