BEGIN:VCALENDAR
VERSION:2.0
PRODID:-//Gastvrijheid in Bedrijf - ECPv6.15.20//NONSGML v1.0//EN
CALSCALE:GREGORIAN
METHOD:PUBLISH
X-WR-CALNAME:Gastvrijheid in Bedrijf
X-ORIGINAL-URL:https://www.gastvrijheidinbedrijf.nl
X-WR-CALDESC:Evenementen voor Gastvrijheid in Bedrijf
REFRESH-INTERVAL;VALUE=DURATION:PT1H
X-Robots-Tag:noindex
X-PUBLISHED-TTL:PT1H
BEGIN:VTIMEZONE
TZID:UTC
BEGIN:STANDARD
TZOFFSETFROM:+0000
TZOFFSETTO:+0000
TZNAME:UTC
DTSTART:20240101T000000
END:STANDARD
END:VTIMEZONE
BEGIN:VEVENT
DTSTART;TZID=UTC:20250917T090000
DTEND;TZID=UTC:20250917T100000
DTSTAMP:20260422T121906
CREATED:20250526T095140Z
LAST-MODIFIED:20250526T095140Z
UID:23094-1758099600-1758103200@www.gastvrijheidinbedrijf.nl
SUMMARY:Hospitality Talk Hoe ervaart de oudere consument gastvrijheid?
DESCRIPTION:Hoe ervaart de oudere consument gastvrijheid? \nEssentieel om te weten voor iedereen die in de gastvrijheid werkt.Waarom? De oudere consument is het grootste marktsegment ooit! Tot 2040 neemt het aantal consumenten van 20 tot 65 jaar niet toe\, terwijl het aantal 65 plussers met 45% toeneemt! 1.4 miljoen meer consumenten! \nEdgar Keehnen heeft op Nyenrode wetenschappelijk onderzoek uitgevoerd over hoe ouderen gastvrijheid ervaren. Hij deelt de resultaten graag tijdens het webinar.  \nMet tips over hoe je een belevenis voor hen kunt creëren waardoor het klanten worden die keer op keer terug komen.\nDeelname aan deze Hospitality Talk is gratis.  \nRegistreer je snel voor dit Zoom event\, via deze link.
URL:https://www.gastvrijheidinbedrijf.nl/evenement/hospitality-talk-hoe-ervaart-de-oudere-consument-gastvrijheid/
LOCATION:Zoom
ATTACH;FMTTYPE=image/png:https://www.gastvrijheidinbedrijf.nl/wp-content/uploads/2025/05/HT-leidinggeven-aan-Gen-Z-1080-x-1080-px.png
END:VEVENT
END:VCALENDAR