BEGIN:VCALENDAR
VERSION:2.0
PRODID:-//Gastvrijheid in Bedrijf - ECPv6.15.20//NONSGML v1.0//EN
CALSCALE:GREGORIAN
METHOD:PUBLISH
X-WR-CALNAME:Gastvrijheid in Bedrijf
X-ORIGINAL-URL:https://www.gastvrijheidinbedrijf.nl
X-WR-CALDESC:Evenementen voor Gastvrijheid in Bedrijf
REFRESH-INTERVAL;VALUE=DURATION:PT1H
X-Robots-Tag:noindex
X-PUBLISHED-TTL:PT1H
BEGIN:VTIMEZONE
TZID:UTC
BEGIN:STANDARD
TZOFFSETFROM:+0000
TZOFFSETTO:+0000
TZNAME:UTC
DTSTART:20240101T000000
END:STANDARD
END:VTIMEZONE
BEGIN:VEVENT
DTSTART;TZID=UTC:20250616T090000
DTEND;TZID=UTC:20250616T100000
DTSTAMP:20260422T173704
CREATED:20250526T094233Z
LAST-MODIFIED:20250526T094233Z
UID:23087-1750064400-1750068000@www.gastvrijheidinbedrijf.nl
SUMMARY:Hospitality Talk Hospitality Huddles
DESCRIPTION:In deze Hospitality Talk neemt Laura de la Mar je mee in de wereld van de Hospitality Huddles. Een Hospitality Huddle is een korte\, interactieve bijeenkomst van 5 tot 15 minuten waarbij een team geïnspireerd wordt om bewust aan de slag te gaan met gastvrijheid in de praktijk. Dit kan onderdeel zijn van: \n1. Een teamoverleg \n2. Een dag- of weekstart of -evaluatie \n3. Een teambuildingsmoment \nIn deze Hospitality Talk licht Laura het doel van de Hospitality Huddles uit en laat ze zien hoe je ze toepast in de praktijk. \nMet de Hospitality Huddles kun je de betrokkenheid en motivatie van medewerkers vergroten en de gastervaring verbeteren. \nBen je erbij op 16 juni? Deze Hospitality Talk wordt opgenomen\, de opname verschijnt op een later moment in de Community. \nRegistreer je dan snel voor dit Zoom event\, via deze link.
URL:https://www.gastvrijheidinbedrijf.nl/evenement/hospitality-talk-hospitality-huddles/
LOCATION:Zoom
ATTACH;FMTTYPE=image/png:https://www.gastvrijheidinbedrijf.nl/wp-content/uploads/2025/05/HT-Huddles.png
END:VEVENT
END:VCALENDAR