BEGIN:VCALENDAR
VERSION:2.0
PRODID:-//Gastvrijheid in Bedrijf - ECPv6.15.20//NONSGML v1.0//EN
CALSCALE:GREGORIAN
METHOD:PUBLISH
X-WR-CALNAME:Gastvrijheid in Bedrijf
X-ORIGINAL-URL:https://www.gastvrijheidinbedrijf.nl
X-WR-CALDESC:Evenementen voor Gastvrijheid in Bedrijf
REFRESH-INTERVAL;VALUE=DURATION:PT1H
X-Robots-Tag:noindex
X-PUBLISHED-TTL:PT1H
BEGIN:VTIMEZONE
TZID:UTC
BEGIN:STANDARD
TZOFFSETFROM:+0000
TZOFFSETTO:+0000
TZNAME:UTC
DTSTART:20230101T000000
END:STANDARD
END:VTIMEZONE
BEGIN:VEVENT
DTSTART;TZID=UTC:20241121T090000
DTEND;TZID=UTC:20241121T100000
DTSTAMP:20260423T045144
CREATED:20240916T085434Z
LAST-MODIFIED:20240916T085434Z
UID:22074-1732179600-1732183200@www.gastvrijheidinbedrijf.nl
SUMMARY:Hospitality Talk Pimp je gastreis
DESCRIPTION:Hospitality Talk Pimp je gastreis met Aurelia Blom \nIn deze Hospitality Talk vertelt Aurelia Blom je alles over hoe jij jouw gastreis kunt op-PIMP-en door passie en een persoonlijke touch toe te voegen\, met inspiratie en motivatie als de centrale elementen. Tijdens deze hospitality talk leer je hoe je de persoonlijke touch in je service kunt versterken\, je team kunt inspireren en motiveren\, en een cultuur kunt creëren die echt uitblinkt. Bereid je voor op een dynamische sessie die je helpt om je gastvrijheidsaanpak te vernieuwen en je impact te maximaliseren. Dit is jouw kans om je gastreis te pimpen naar een geheel nieuw niveau! \nWanneer:  \n21 november 2024 om 9:00 uur\nVia Zoom\, vergeet je niet vooraf te registreren via de link hieronder.\nOver Aurelia Blom:“Als echt Limburgs ‘meadsje’ is gastvrijheid mij met de paplepel ingegoten.\nMet 25-jaar aan horeca-ervaring wil ik zoveel mogelijk ondernemers helpen om de gastreis te optimaliseren. Dit doe ik door de gastreis te bestuderen\, eventueel backoffice werkzaamheden over te nemen en waar nodig processen te versimpelen.” \nBen jij aanwezig bij deze online Hospitality Talk op 21 november a.s.? Meld je dan snel aan via deze link.
URL:https://www.gastvrijheidinbedrijf.nl/evenement/hospitality-talk-pimp-je-gastreis/
LOCATION:Zoom
ATTACH;FMTTYPE=image/png:https://www.gastvrijheidinbedrijf.nl/wp-content/uploads/2024/09/Hospitality-Talk-Pimp-je-gastreis-1.png
END:VEVENT
END:VCALENDAR