BEGIN:VCALENDAR
VERSION:2.0
PRODID:-//Gastvrijheid in Bedrijf - ECPv6.15.20//NONSGML v1.0//EN
CALSCALE:GREGORIAN
METHOD:PUBLISH
X-ORIGINAL-URL:https://www.gastvrijheidinbedrijf.nl
X-WR-CALDESC:Evenementen voor Gastvrijheid in Bedrijf
REFRESH-INTERVAL;VALUE=DURATION:PT1H
X-Robots-Tag:noindex
X-PUBLISHED-TTL:PT1H
BEGIN:VTIMEZONE
TZID:UTC
BEGIN:STANDARD
TZOFFSETFROM:+0000
TZOFFSETTO:+0000
TZNAME:UTC
DTSTART:20230101T000000
END:STANDARD
END:VTIMEZONE
BEGIN:VEVENT
DTSTART;TZID=UTC:20240517T100000
DTEND;TZID=UTC:20240517T110000
DTSTAMP:20260425T130313
CREATED:20240131T103051Z
LAST-MODIFIED:20240205T105104Z
UID:21132-1715940000-1715943600@www.gastvrijheidinbedrijf.nl
SUMMARY:Hospitality Talk Meesterlijk Gastvrij met Harald Hovenkamp
DESCRIPTION:Hospitality Talk Meesterlijk Gastvrij met Harald Hovenkamp \nIn deze Hospitality Talk neemt Harald Hovenkamp ons mee in de totstandkoming van zijn nieuwe boek ‘Meesterlijk Gastvrij’. \nHarald is SVH-meester en MSc & Master in Hospitality & Service management. Hij doceert hotelmanagement om zo zijn kennis door te geven. Hiervoor was hij eigenaar van het bekende Michelin-sterrenrestaurant Kaatje bij de Sluis Restaurant & Résidence in Blokzijl.\nDe SVH-meestertitel is de hoogste graad van vakbekwaamheid die iemand in de horeca kan behalen; SVH-meesters behoren dus tot de top van de Nederlandse gastvrijheid. Harald besprak hun ervaringen\, ervaringen die een team kan helpen. \n‘Ik ben al decennia bezig met gastvrijheid. Een van de drijfveren daarvoor is mijn continue nieuwsgierigheid naar wat gastvrijheid is. Wat doen we nu echt\, hoe complex is het? En hoe kunnen we het ontastbare concreter maken? \nWat de één gastvrij vindt\, geldt niet voor de ander. Waar komt dat verschil in uitvoerende gastvrijheid vandaan? Mijn laatste boek ‘Meesterlijk Gastvrij’ presenteert\, aan de hand van onderzoek\, negen punten waarop medewerkers zich kunnen concentreren en die de manager kunnen ondersteunen. Het geeft verschillende aandachtspunten om nog gastvrijer te kunnen zijn. Met de kennis van de SVH-meesters legt dit boek een stevige wetenschappelijke basis voor uitvoerende gastvrijheid. \nOntdek in deze Hospitality Talk hoe het boek tot stand is gekomen en wat de uitkomsten waren. Ook is er voldoende ruimte voor jouw vraag aan Harald. \nZorg dat je erbij bent! \nZet deze datum dus in je agenda en registreer je voor dit Zoom event.
URL:https://www.gastvrijheidinbedrijf.nl/evenement/hospitality-talk-meesterlijk-gastvrij/
LOCATION:Zoom
ATTACH;FMTTYPE=image/png:https://www.gastvrijheidinbedrijf.nl/wp-content/uploads/2024/01/Hospitality-Talk-met-Harald-Hovenkamp.png
END:VEVENT
END:VCALENDAR