BEGIN:VCALENDAR
VERSION:2.0
PRODID:-//Gastvrijheid in Bedrijf - ECPv6.15.20//NONSGML v1.0//EN
CALSCALE:GREGORIAN
METHOD:PUBLISH
X-ORIGINAL-URL:https://www.gastvrijheidinbedrijf.nl
X-WR-CALDESC:Evenementen voor Gastvrijheid in Bedrijf
REFRESH-INTERVAL;VALUE=DURATION:PT1H
X-Robots-Tag:noindex
X-PUBLISHED-TTL:PT1H
BEGIN:VTIMEZONE
TZID:Europe/Amsterdam
BEGIN:DAYLIGHT
TZOFFSETFROM:+0100
TZOFFSETTO:+0200
TZNAME:CEST
DTSTART:20220327T010000
END:DAYLIGHT
BEGIN:STANDARD
TZOFFSETFROM:+0200
TZOFFSETTO:+0100
TZNAME:CET
DTSTART:20221030T010000
END:STANDARD
BEGIN:DAYLIGHT
TZOFFSETFROM:+0100
TZOFFSETTO:+0200
TZNAME:CEST
DTSTART:20230326T010000
END:DAYLIGHT
BEGIN:STANDARD
TZOFFSETFROM:+0200
TZOFFSETTO:+0100
TZNAME:CET
DTSTART:20231029T010000
END:STANDARD
BEGIN:DAYLIGHT
TZOFFSETFROM:+0100
TZOFFSETTO:+0200
TZNAME:CEST
DTSTART:20240331T010000
END:DAYLIGHT
BEGIN:STANDARD
TZOFFSETFROM:+0200
TZOFFSETTO:+0100
TZNAME:CET
DTSTART:20241027T010000
END:STANDARD
END:VTIMEZONE
BEGIN:VEVENT
DTSTART;TZID=Europe/Amsterdam:20231109T090000
DTEND;TZID=Europe/Amsterdam:20231109T163000
DTSTAMP:20260425T225325
CREATED:20220118T101401Z
LAST-MODIFIED:20230906T125527Z
UID:13627-1699520400-1699547400@www.gastvrijheidinbedrijf.nl
SUMMARY:Emotionele Intelligentie
DESCRIPTION:In gastvrijheid ligt jouw onderscheidend vermogen niet zozeer in jouw cognitieve intelligentie (IQ)\, maar juist in jouw emotionele intelligentie (EQ). In deze inspirerende masterclass ga jij in op het ontwikkelen van jouw eigen emotionele vermogen. Daarnaast maak jij gebruik van jouw eigen persoonlijke EQ leiderschapsprofiel om je emotionele intelligentie als vaardigheid bewust bij jouw gast te beïnvloeden. Want in gastvrijheid gaat het er niet altijd om wat jij doet\, maar vooral om hoe jij het doet!   \nTijdens deze masterclass ga jij aan de slag met jouw emotionele intelligentie ten behoeve van gastvrijheid. Hoe kun jij nu in gedrag met behulp van jouw EQ invloed uitoefenen op de emotie van jouw gast? Voorafgaand aan deze masterclass vul jij een vragenlijst in waarbij jij een persoonlijk EQ leiderschapsprofiel ontvangt en een debrief gesprek hebt. Vanuit dit profiel en gesprek gaan wij gedurende de masterclass aan de slag en krijg jij inzicht in jouw kwaliteit in EQ en hoe jij deze in kunt zetten in de praktijk. \nEmotionele intelligentie betreft de manier waarop jij met emoties omgaat\, van jezelf en van anderen. Tijdens deze dag behandelen we de wetenschappelijke bewezen technieken. Je leert emoties herkennen\, emoties reguleren en dat je een keuze hebt in welk gedrag je aan deze emoties koppelt. Een mooi inzicht wat je helpt om gastvrijheid naar een hoger niveau te tillen. \nIn de masterclass gaan we praktisch aan de slag met de elementen van emotionele intelligentie  die en daarin de vertaalslag maken naar de gastvrijheid in jouw praktijk. Alle competenties hebben hun nuttige en cruciale vertaling in gastvrijheid en zijn allen vaardigheden die aan te leren en te ontwikkelen zijn. \nWat je gaat leren:  \n\nJe wordt een expert op het gebied van emotionele intelligentie\nJe leert jouw persoonlijke EQ leiderschapsprofiel in te zetten en te gebruiken om gastvrijheid te verhogen\nJe ontdekt hoe je een bewust je EQ in kunt zetten\nJe gaat aan de slag met diverse tools vanuit EQ om direct in de praktijk toe te passen\n\nWat levert deze training jou op?\nJij weet welke rol emotionele intelligentie speelt in relatie tot gastvrijheid en jouw eigen functioneren. Daarnaast weet jij hoe dit effectief ingezet kan worden binnen jouw vakgebied. Jij bent bekend met jouw eigen (EQ) profiel en jouw persoonlijke kwaliteiten en aandachtpunten. Jij kent de 8 competenties van jouw eigen EQ en kunt deze beïnvloeden en ontwikkelen. \nVoor wie:\nEmotionele intelligentie is gericht op professionals die de ambitie hebben verder te groeien in hun gastvrijheid en hun emotionele intelligentie hierin verder willen ontwikkelen. \nDe trainer\nDe training wordt begeleid door onze gastvrijheidsexpert Soraya Rooijackers. Ze heeft jarenlange ervaring als gastvrijheidstrainer en deelt graag haar kennis op het gebied van excellent gastheerschap\, DISC en emotionele intelligentie. Benieuwd naar Soraya’s profiel? Klik dan hier. \nDe investering\nDeelname aan de training kost: \n\n€674\,-* voor niet-Community leden\n€624\,-* voor Gastvrijheid in Bedrijf Community leden\n\n* excl. BTW en inclusief lunch. \nKlik hier voor meer informatie over community lidmaatschappen. \nBen je er bij?Meld je aan via onderstaand formulier. \nFacturatiegegevens *Ben je lid van de Gastvrijheid in Bedrijf Community? *Nee\, ik betaal de volledige prijs.Nee\, maar ik wil wel graag Community lid worden (€6\,-- per maand excl. BTW) en ontvang 50 euro korting op het bedrag voor de masterclassJa\, ik ben lid.Toestemming algemene voorwaarden *Ik ga akkoord met de algemene voorwaarden.Inspiratie e-mails ontvangenJa\, ik ontvang graag zo af en toe een -email met inspiratie\, tips en tools van Gastvrijheid in Bedrijf.KortingscodeVersturenBedankt voor de aanmelding voor de Evenementen.×Er ging iets mis bij het verzenden van de aanmelding\, probeer het nogmaals.×Praktische informatieDatum: 9 november 2023\nLocatie: Kasteel Hoekelum\,\nEdeseweg 124 6721 KE Bennekom \nDuur: Eén dag (9.00-16.30 uur)\nGroepsgrootte: 4 tot 12 deelnemers \nStudiebelasting: Voorafgaand aan de masterclass voer je een voorbereidende opdracht (EQ analyse invullen) uit van circa 30 minuten. Daarnaast plan je een videocall in met de trainer voor een één-op-één gesprek om jouw EQ profiel te bespreken. De studiebelasting is daarmee totaal circa 9 uur. \n(Aanvangs)niveau:deze masterclass is toegankelijk voor alle niveaus. Er is geen vooropleiding nodig. \nStudiemateriaal: voorafgaand aan de masterclass ontvang je jouw persoonlijke EQ profiel. Tijdens de masterclass krijg je materiaal zoals pen\, een notitieblok en hand-outs. Aan het einde van de dag ontvang je een certificaat (bewijs van deelname). Daarnaast krijg je toegang tot een online omgeving waarbij je toegang krijg tot de presentatie\, hand-outs en naslagmateriaal. De prijs voor de masterclass is inclusief al het studiemateriaal. \nAanmeldenAanmelden
URL:https://www.gastvrijheidinbedrijf.nl/evenement/masterclass-emotionele-intelligentie/
LOCATION:Kasteel Hoekelum\, Edeseweg 124\, Bennekom\, 6721 KE\, Nederland
CATEGORIES:Masterclass
ATTACH;FMTTYPE=image/jpeg:https://www.gastvrijheidinbedrijf.nl/wp-content/uploads/2022/01/Masterclass-EQ-Gastvrijheid.jpg
ORGANIZER;CN="Gastvrijheid in Bedrijf":MAILTO:info@gastvrijheidinbedrijf.nl
END:VEVENT
END:VCALENDAR